BEGIN:VCALENDAR
VERSION:2.0
PRODID:icalendar-ruby
CALSCALE:GREGORIAN
METHOD:PUBLISH
BEGIN:VTIMEZONE
TZID:Australia/Perth
BEGIN:STANDARD
DTSTART:20090329T020000
TZOFFSETFROM:+0900
TZOFFSETTO:+0800
TZNAME:AWST
END:STANDARD
END:VTIMEZONE
BEGIN:VEVENT
DTSTAMP:20260424T115100Z
UID:inspection_3013032
DTSTART;TZID=Australia/Perth:20260426T123000
DTEND;TZID=Australia/Perth:20260426T131500
CLASS:PUBLIC
CREATED:20260424T152436
DESCRIPTION: 
LAST-MODIFIED:20260424T152436
LOCATION:51 Inverness Crescent\, MENORA WA 6050\, Australia
SUMMARY:51 Inverness Crescent\,  Inspection
URL;VALUE=URI:https://www.eqrealty.com.au/
END:VEVENT
END:VCALENDAR
