BEGIN:VCALENDAR
VERSION:2.0
PRODID:icalendar-ruby
CALSCALE:GREGORIAN
METHOD:PUBLISH
BEGIN:VTIMEZONE
TZID:Australia/Perth
BEGIN:STANDARD
DTSTART:20090329T020000
TZOFFSETFROM:+0900
TZOFFSETTO:+0800
TZNAME:AWST
END:STANDARD
END:VTIMEZONE
BEGIN:VEVENT
DTSTAMP:20200229T001532Z
UID:inspection_723278
DTSTART;TZID=Australia/Perth:20200229T113000
DTEND;TZID=Australia/Perth:20200229T120000
CLASS:PUBLIC
CREATED:20200224T085953
DESCRIPTION: 
LAST-MODIFIED:20200224T085953
LOCATION:26 Hunter Street\, NORTH PERTH WA 6006\, Australia
SUMMARY:26 Hunter Street\,  Inspection
URL:http://www.eqrealty.com.au/
END:VEVENT
END:VCALENDAR
